Index of /checkResults/release/bioc-LATEST/RiboCrypt/raw-results

[ICO]NameLast modifiedSizeDescription

[PARENTDIR]Parent Directory  -  
[   ]info.dcf2025-11-19 20:07 281  
[DIR]kjohnson1/2025-11-19 20:10 -  
[DIR]kjohnson3/2025-11-11 17:03 -  
[DIR]lconway/2025-11-04 17:04 -  
[DIR]merida1/2025-11-19 20:09 -  
[DIR]nebbiolo2/2025-11-19 20:08 -  
[DIR]palomino8/2025-08-15 16:07 -  
[DIR]taishan/2025-11-17 16:58 -  

Apache/2.4.52 (Ubuntu) Server at master.bioconductor.org Port 80