Index of /checkResults/release/bioc-LATEST/interactiveDisplay/raw-results

[ICO]NameLast modifiedSizeDescription

[PARENTDIR]Parent Directory  -  
[   ]info.dcf2025-11-12 16:57 319  
[DIR]kjohnson3/2025-11-11 17:03 -  
[DIR]lconway/2025-11-04 17:04 -  
[DIR]nebbiolo2/2025-11-12 16:58 -  
[DIR]palomino8/2025-08-15 16:06 -  
[DIR]taishan/2025-11-12 16:58 -  

Apache/2.4.52 (Ubuntu) Server at master.bioconductor.org Port 80